BEGIN:VCALENDAR
VERSION:2.0
PRODID:-//Cactus Junges Theater - ECPv6.15.20//NONSGML v1.0//EN
CALSCALE:GREGORIAN
METHOD:PUBLISH
X-WR-CALNAME:Cactus Junges Theater
X-ORIGINAL-URL:https://cactus-theater.de
X-WR-CALDESC:Veranstaltungen für Cactus Junges Theater
REFRESH-INTERVAL;VALUE=DURATION:PT1H
X-Robots-Tag:noindex
X-PUBLISHED-TTL:PT1H
BEGIN:VTIMEZONE
TZID:Europe/Berlin
BEGIN:DAYLIGHT
TZOFFSETFROM:+0100
TZOFFSETTO:+0200
TZNAME:CEST
DTSTART:20250330T010000
END:DAYLIGHT
BEGIN:STANDARD
TZOFFSETFROM:+0200
TZOFFSETTO:+0100
TZNAME:CET
DTSTART:20251026T010000
END:STANDARD
BEGIN:DAYLIGHT
TZOFFSETFROM:+0100
TZOFFSETTO:+0200
TZNAME:CEST
DTSTART:20260329T010000
END:DAYLIGHT
BEGIN:STANDARD
TZOFFSETFROM:+0200
TZOFFSETTO:+0100
TZNAME:CET
DTSTART:20261025T010000
END:STANDARD
BEGIN:DAYLIGHT
TZOFFSETFROM:+0100
TZOFFSETTO:+0200
TZNAME:CEST
DTSTART:20270328T010000
END:DAYLIGHT
BEGIN:STANDARD
TZOFFSETFROM:+0200
TZOFFSETTO:+0100
TZNAME:CET
DTSTART:20271031T010000
END:STANDARD
END:VTIMEZONE
BEGIN:VEVENT
DTSTART;TZID=Europe/Berlin:20260404T200000
DTEND;TZID=Europe/Berlin:20260404T210000
DTSTAMP:20260424T102601
CREATED:20260217T131033Z
LAST-MODIFIED:20260326T150355Z
UID:10001677-1775332800-1775336400@cactus-theater.de
SUMMARY:Einsamkeit & Sektempfang
DESCRIPTION:– eine theatrale Ausstellung\n\n\n\nEine Performance über die Nähe zur Einsamkeit – brennendes\, umhüllendes Schweigen\, eruptive Ausbrüche und Korkenknallen. Einsamkeit – ein Gefühl\, das niemand gerne teilt. Ein Thema – zum Wegsehen. Aber lässt sie sich wegsperren\, bleibt sie geheim oder steht sie in unseren Gesichtern geschrieben? Wo wohnt die Einsamkeit? Schwimmt sie im Sektglas? Pocht sie im Ohr? \n\n\n\nZehn junge Menschen haben zum Phänomen der Einsamkeit gearbeitet und sich Fragen zu ihrer Sichtbarkeit\, ihren Zuschreibungen und ihren Gefahren gestellt. Situativ\, introspektiv\, out of the box. Das Ensemble hat zusammen mit dem Team um Sarah Giese eine Partitur geschrieben über die Einsamkeit und die Suche nach Verbindung; das Publikum wird eingeladen\, genauer hinzusehen. \n\n\n\n/zart/humorvoll/nah/mittendrin/ \n\n\n\n\n\n\nMit: Cato Sieben\, Mike Neyer\, Moaz Alraie\, Stella Bensmann\, Lennart Jan Kurze\, Alae Rtimi\, Anna Liebert\, Sarah Benekam\, Lovis Mo Lukas\, Levin Thüringer \n\n\n\nRegie/Konzept: Sarah Giese\, Dramaturgie: Lennart  Aufenvenne\, Choreographie/Szenographie: René Haustein\, Co-Regie/Co-Dramaturgie: Lea Pollmann\, Assistenz: Klea Mago\, Kostüme: Bettina Zumdick\, Licht: Titus Wies\, Assistenz Stimmarbeit: Frederike Schmelzer\, PR: Rita Roring\, Fotos/Design: Erich Saar \n\n\n\nCactus + Produktion: Nachwuchs-Co-Regie/Co-Dramaturgie \n\n\n\nEine Produktion von Cactus Junges Theater\, in Koproduktion mit Theater im Pumpenhaus\, in Kooperation mit Jugendtheater-Werkstatt e.V.\, Theater Titanick gefördert von: kontinuierliche und Projekt -Förderung durch das Kulturamt der Stadt Münster\, Kulturstiftung der Sparkasse Münster\, Fonds Soziokultur e.V.\, LWL-Landesjugendamt Westfalen\, Paritätisches Jugendwerk NRW\,  unterstützt durch: Soroptimist International\, Cibaria\, Liba GmbH & Co KG\, Dank an: Brillux\, Till Notzon \n\n\n\n\n\n\n\n\n\n\n\nKartenOnline über www.pumpenhaus.de\,Abendkasse im Theater im Pumpenhaus: Link zu Google-MapsWN-Ticket-Shop\, Picassoplatz 3und an allen Vorverkaufsstellen vonlocalticketing \n\n\n\n\n\n\n\n/ erm. 10\,- € (inkl. Gebühren) Jugendkarte 6\,- € \n\n\n\n\n\n\nTICKETS
URL:https://cactus-theater.de/veranstaltung/einsamkeit-sektempfang/2026-04-04/
LOCATION:Theater im Pumpenhaus\, Gartenstraße 123\, Münster\, 48147
CATEGORIES:Aufführungen
ATTACH;FMTTYPE=image/jpeg:https://cactus-theater.de/wp-content/uploads/2026/02/Einsamkeit@erich-saar-08842.jpg
END:VEVENT
END:VCALENDAR